BEGIN:VCALENDAR
VERSION:2.0
PRODID:-//Park 96 - ECPv6.15.11//NONSGML v1.0//EN
CALSCALE:GREGORIAN
METHOD:PUBLISH
X-WR-CALNAME:Park 96
X-ORIGINAL-URL:https://park96.com
X-WR-CALDESC:Events for Park 96
REFRESH-INTERVAL;VALUE=DURATION:PT1H
X-Robots-Tag:noindex
X-PUBLISHED-TTL:PT1H
BEGIN:VTIMEZONE
TZID:America/Edmonton
BEGIN:DAYLIGHT
TZOFFSETFROM:-0700
TZOFFSETTO:-0600
TZNAME:MDT
DTSTART:20250309T090000
END:DAYLIGHT
BEGIN:STANDARD
TZOFFSETFROM:-0600
TZOFFSETTO:-0700
TZNAME:MST
DTSTART:20251102T080000
END:STANDARD
BEGIN:DAYLIGHT
TZOFFSETFROM:-0700
TZOFFSETTO:-0600
TZNAME:MDT
DTSTART:20260308T090000
END:DAYLIGHT
BEGIN:STANDARD
TZOFFSETFROM:-0600
TZOFFSETTO:-0700
TZNAME:MST
DTSTART:20261101T080000
END:STANDARD
BEGIN:DAYLIGHT
TZOFFSETFROM:-0700
TZOFFSETTO:-0600
TZNAME:MDT
DTSTART:20270314T090000
END:DAYLIGHT
BEGIN:STANDARD
TZOFFSETFROM:-0600
TZOFFSETTO:-0700
TZNAME:MST
DTSTART:20271107T080000
END:STANDARD
END:VTIMEZONE
BEGIN:VEVENT
DTSTART;TZID=America/Edmonton:20260425T090000
DTEND;TZID=America/Edmonton:20260425T230000
DTSTAMP:20260424T205142
CREATED:20250925T185543Z
LAST-MODIFIED:20260227T051229Z
UID:10002609-1777107600-1777158000@park96.com
SUMMARY:Wai Da Wing Tsun Kung Fu
DESCRIPTION:
URL:https://park96.com/event/wai-da-wing-tsun-kung-fu-2/2026-04-25/
LOCATION:Park96\, 14660 Parkland Blvd. SE\, Calgary\, AB\, T2J 6L5\, Canada
ATTACH;FMTTYPE=image/png:https://park96.com/wp-content/uploads/2025/09/Untitled-600-x-400-px-1.png
END:VEVENT
BEGIN:VEVENT
DTSTART;TZID=America/Edmonton:20260502T090000
DTEND;TZID=America/Edmonton:20260502T230000
DTSTAMP:20260424T205142
CREATED:20250925T185543Z
LAST-MODIFIED:20260227T051229Z
UID:10002610-1777712400-1777762800@park96.com
SUMMARY:Wai Da Wing Tsun Kung Fu
DESCRIPTION:
URL:https://park96.com/event/wai-da-wing-tsun-kung-fu-2/2026-05-02/
LOCATION:Park96\, 14660 Parkland Blvd. SE\, Calgary\, AB\, T2J 6L5\, Canada
ATTACH;FMTTYPE=image/png:https://park96.com/wp-content/uploads/2025/09/Untitled-600-x-400-px-1.png
END:VEVENT
BEGIN:VEVENT
DTSTART;TZID=America/Edmonton:20260509T090000
DTEND;TZID=America/Edmonton:20260509T230000
DTSTAMP:20260424T205142
CREATED:20250925T185543Z
LAST-MODIFIED:20260227T051229Z
UID:10002611-1778317200-1778367600@park96.com
SUMMARY:Wai Da Wing Tsun Kung Fu
DESCRIPTION:
URL:https://park96.com/event/wai-da-wing-tsun-kung-fu-2/2026-05-09/
LOCATION:Park96\, 14660 Parkland Blvd. SE\, Calgary\, AB\, T2J 6L5\, Canada
ATTACH;FMTTYPE=image/png:https://park96.com/wp-content/uploads/2025/09/Untitled-600-x-400-px-1.png
END:VEVENT
BEGIN:VEVENT
DTSTART;TZID=America/Edmonton:20260516T090000
DTEND;TZID=America/Edmonton:20260516T230000
DTSTAMP:20260424T205142
CREATED:20250925T185543Z
LAST-MODIFIED:20260227T051229Z
UID:10002612-1778922000-1778972400@park96.com
SUMMARY:Wai Da Wing Tsun Kung Fu
DESCRIPTION:
URL:https://park96.com/event/wai-da-wing-tsun-kung-fu-2/2026-05-16/
LOCATION:Park96\, 14660 Parkland Blvd. SE\, Calgary\, AB\, T2J 6L5\, Canada
ATTACH;FMTTYPE=image/png:https://park96.com/wp-content/uploads/2025/09/Untitled-600-x-400-px-1.png
END:VEVENT
BEGIN:VEVENT
DTSTART;TZID=America/Edmonton:20260519T190000
DTEND;TZID=America/Edmonton:20260519T220000
DTSTAMP:20260424T205142
CREATED:20240405T202811Z
LAST-MODIFIED:20240405T202811Z
UID:10000050-1779217200-1779228000@park96.com
SUMMARY:Board Game Club
DESCRIPTION:
URL:https://park96.com/event/board-game-club/2026-05-19/
LOCATION:Park96\, 14660 Parkland Blvd. SE\, Calgary\, AB\, T2J 6L5\, Canada
ATTACH;FMTTYPE=image/jpeg:https://park96.com/wp-content/uploads/2024/04/Board-Game-600x400-1.jpg
ORGANIZER;CN="Park96":MAILTO:park96@telus.net
END:VEVENT
BEGIN:VEVENT
DTSTART;TZID=America/Edmonton:20260523T090000
DTEND;TZID=America/Edmonton:20260523T230000
DTSTAMP:20260424T205142
CREATED:20250925T185543Z
LAST-MODIFIED:20260227T051229Z
UID:10002613-1779526800-1779577200@park96.com
SUMMARY:Wai Da Wing Tsun Kung Fu
DESCRIPTION:
URL:https://park96.com/event/wai-da-wing-tsun-kung-fu-2/2026-05-23/
LOCATION:Park96\, 14660 Parkland Blvd. SE\, Calgary\, AB\, T2J 6L5\, Canada
ATTACH;FMTTYPE=image/png:https://park96.com/wp-content/uploads/2025/09/Untitled-600-x-400-px-1.png
END:VEVENT
BEGIN:VEVENT
DTSTART;TZID=America/Edmonton:20260530T090000
DTEND;TZID=America/Edmonton:20260530T230000
DTSTAMP:20260424T205142
CREATED:20250925T185543Z
LAST-MODIFIED:20260227T051229Z
UID:10002614-1780131600-1780182000@park96.com
SUMMARY:Wai Da Wing Tsun Kung Fu
DESCRIPTION:
URL:https://park96.com/event/wai-da-wing-tsun-kung-fu-2/2026-05-30/
LOCATION:Park96\, 14660 Parkland Blvd. SE\, Calgary\, AB\, T2J 6L5\, Canada
ATTACH;FMTTYPE=image/png:https://park96.com/wp-content/uploads/2025/09/Untitled-600-x-400-px-1.png
END:VEVENT
BEGIN:VEVENT
DTSTART;TZID=America/Edmonton:20260606T090000
DTEND;TZID=America/Edmonton:20260606T230000
DTSTAMP:20260424T205143
CREATED:20250925T185543Z
LAST-MODIFIED:20260227T051229Z
UID:10002615-1780736400-1780786800@park96.com
SUMMARY:Wai Da Wing Tsun Kung Fu
DESCRIPTION:
URL:https://park96.com/event/wai-da-wing-tsun-kung-fu-2/2026-06-06/
LOCATION:Park96\, 14660 Parkland Blvd. SE\, Calgary\, AB\, T2J 6L5\, Canada
ATTACH;FMTTYPE=image/png:https://park96.com/wp-content/uploads/2025/09/Untitled-600-x-400-px-1.png
END:VEVENT
BEGIN:VEVENT
DTSTART;TZID=America/Edmonton:20260613T090000
DTEND;TZID=America/Edmonton:20260613T230000
DTSTAMP:20260424T205143
CREATED:20250925T185543Z
LAST-MODIFIED:20260227T051229Z
UID:10002616-1781341200-1781391600@park96.com
SUMMARY:Wai Da Wing Tsun Kung Fu
DESCRIPTION:
URL:https://park96.com/event/wai-da-wing-tsun-kung-fu-2/2026-06-13/
LOCATION:Park96\, 14660 Parkland Blvd. SE\, Calgary\, AB\, T2J 6L5\, Canada
ATTACH;FMTTYPE=image/png:https://park96.com/wp-content/uploads/2025/09/Untitled-600-x-400-px-1.png
END:VEVENT
BEGIN:VEVENT
DTSTART;TZID=America/Edmonton:20260616T190000
DTEND;TZID=America/Edmonton:20260616T220000
DTSTAMP:20260424T205143
CREATED:20240405T202811Z
LAST-MODIFIED:20240405T202811Z
UID:10000051-1781636400-1781647200@park96.com
SUMMARY:Board Game Club
DESCRIPTION:
URL:https://park96.com/event/board-game-club/2026-06-16/
LOCATION:Park96\, 14660 Parkland Blvd. SE\, Calgary\, AB\, T2J 6L5\, Canada
ATTACH;FMTTYPE=image/jpeg:https://park96.com/wp-content/uploads/2024/04/Board-Game-600x400-1.jpg
ORGANIZER;CN="Park96":MAILTO:park96@telus.net
END:VEVENT
BEGIN:VEVENT
DTSTART;TZID=America/Edmonton:20260620T090000
DTEND;TZID=America/Edmonton:20260620T220000
DTSTAMP:20260424T205143
CREATED:20250422T225459Z
LAST-MODIFIED:20260227T051320Z
UID:10000837-1781946000-1781992800@park96.com
SUMMARY:SUMMERFEST
DESCRIPTION:
URL:https://park96.com/event/summerfest-2/
LOCATION:Park96\, 14660 Parkland Blvd. SE\, Calgary\, AB\, T2J 6L5\, Canada
ATTACH;FMTTYPE=image/png:https://park96.com/wp-content/uploads/2026/02/SF-Web.png
END:VEVENT
BEGIN:VEVENT
DTSTART;TZID=America/Edmonton:20260627T090000
DTEND;TZID=America/Edmonton:20260627T230000
DTSTAMP:20260424T205143
CREATED:20250925T185543Z
LAST-MODIFIED:20260227T051229Z
UID:10002618-1782550800-1782601200@park96.com
SUMMARY:Wai Da Wing Tsun Kung Fu
DESCRIPTION:
URL:https://park96.com/event/wai-da-wing-tsun-kung-fu-2/2026-06-27/
LOCATION:Park96\, 14660 Parkland Blvd. SE\, Calgary\, AB\, T2J 6L5\, Canada
ATTACH;FMTTYPE=image/png:https://park96.com/wp-content/uploads/2025/09/Untitled-600-x-400-px-1.png
END:VEVENT
BEGIN:VEVENT
DTSTART;TZID=America/Edmonton:20260704T090000
DTEND;TZID=America/Edmonton:20260704T230000
DTSTAMP:20260424T205143
CREATED:20250925T185543Z
LAST-MODIFIED:20260227T051229Z
UID:10002619-1783155600-1783206000@park96.com
SUMMARY:Wai Da Wing Tsun Kung Fu
DESCRIPTION:
URL:https://park96.com/event/wai-da-wing-tsun-kung-fu-2/2026-07-04/
LOCATION:Park96\, 14660 Parkland Blvd. SE\, Calgary\, AB\, T2J 6L5\, Canada
ATTACH;FMTTYPE=image/png:https://park96.com/wp-content/uploads/2025/09/Untitled-600-x-400-px-1.png
END:VEVENT
BEGIN:VEVENT
DTSTART;TZID=America/Edmonton:20260711T090000
DTEND;TZID=America/Edmonton:20260711T230000
DTSTAMP:20260424T205143
CREATED:20250925T185543Z
LAST-MODIFIED:20260227T051229Z
UID:10002620-1783760400-1783810800@park96.com
SUMMARY:Wai Da Wing Tsun Kung Fu
DESCRIPTION:
URL:https://park96.com/event/wai-da-wing-tsun-kung-fu-2/2026-07-11/
LOCATION:Park96\, 14660 Parkland Blvd. SE\, Calgary\, AB\, T2J 6L5\, Canada
ATTACH;FMTTYPE=image/png:https://park96.com/wp-content/uploads/2025/09/Untitled-600-x-400-px-1.png
END:VEVENT
BEGIN:VEVENT
DTSTART;TZID=America/Edmonton:20260713T090000
DTEND;TZID=America/Edmonton:20260717T160000
DTSTAMP:20260424T205143
CREATED:20240405T191228Z
LAST-MODIFIED:20260227T051650Z
UID:10000009-1783933200-1784304000@park96.com
SUMMARY:Reptile Camp (week 1)
DESCRIPTION:Click here to go to the Reptile Camp page with more information and how to register. \nReptile Camp – Park96
URL:https://park96.com/event/reptile-camp-4/
LOCATION:Park96\, 14660 Parkland Blvd. SE\, Calgary\, AB\, T2J 6L5\, Canada
CATEGORIES:Camp
ATTACH;FMTTYPE=image/jpeg:https://park96.com/wp-content/uploads/2025/03/Reptile-Camp-2.jpg
ORGANIZER;CN="Reptile Camp":MAILTO:reptile.party@hotmail.com
END:VEVENT
BEGIN:VEVENT
DTSTART;TZID=America/Edmonton:20260718T090000
DTEND;TZID=America/Edmonton:20260718T230000
DTSTAMP:20260424T205143
CREATED:20250925T185543Z
LAST-MODIFIED:20260227T051229Z
UID:10002621-1784365200-1784415600@park96.com
SUMMARY:Wai Da Wing Tsun Kung Fu
DESCRIPTION:
URL:https://park96.com/event/wai-da-wing-tsun-kung-fu-2/2026-07-18/
LOCATION:Park96\, 14660 Parkland Blvd. SE\, Calgary\, AB\, T2J 6L5\, Canada
ATTACH;FMTTYPE=image/png:https://park96.com/wp-content/uploads/2025/09/Untitled-600-x-400-px-1.png
END:VEVENT
BEGIN:VEVENT
DTSTART;TZID=America/Edmonton:20260720T090000
DTEND;TZID=America/Edmonton:20260724T160000
DTSTAMP:20260424T205143
CREATED:20260227T051903Z
LAST-MODIFIED:20260227T051903Z
UID:10002650-1784538000-1784908800@park96.com
SUMMARY:Reptile Camp (week 2)
DESCRIPTION:Click here to go to the Reptile Camp page with more information and how to register. \nReptile Camp – Park96
URL:https://park96.com/event/reptile-camp-week-2/
LOCATION:Park96\, 14660 Parkland Blvd. SE\, Calgary\, AB\, T2J 6L5\, Canada
CATEGORIES:Camp
ATTACH;FMTTYPE=image/jpeg:https://park96.com/wp-content/uploads/2025/03/Reptile-Camp-2.jpg
ORGANIZER;CN="Reptile Camp":MAILTO:reptile.party@hotmail.com
END:VEVENT
BEGIN:VEVENT
DTSTART;TZID=America/Edmonton:20260721T190000
DTEND;TZID=America/Edmonton:20260721T220000
DTSTAMP:20260424T205143
CREATED:20240405T202811Z
LAST-MODIFIED:20240405T202811Z
UID:10000052-1784660400-1784671200@park96.com
SUMMARY:Board Game Club
DESCRIPTION:
URL:https://park96.com/event/board-game-club/2026-07-21/
LOCATION:Park96\, 14660 Parkland Blvd. SE\, Calgary\, AB\, T2J 6L5\, Canada
ATTACH;FMTTYPE=image/jpeg:https://park96.com/wp-content/uploads/2024/04/Board-Game-600x400-1.jpg
ORGANIZER;CN="Park96":MAILTO:park96@telus.net
END:VEVENT
BEGIN:VEVENT
DTSTART;TZID=America/Edmonton:20260725T090000
DTEND;TZID=America/Edmonton:20260725T230000
DTSTAMP:20260424T205143
CREATED:20250925T185543Z
LAST-MODIFIED:20260227T051229Z
UID:10002622-1784970000-1785020400@park96.com
SUMMARY:Wai Da Wing Tsun Kung Fu
DESCRIPTION:
URL:https://park96.com/event/wai-da-wing-tsun-kung-fu-2/2026-07-25/
LOCATION:Park96\, 14660 Parkland Blvd. SE\, Calgary\, AB\, T2J 6L5\, Canada
ATTACH;FMTTYPE=image/png:https://park96.com/wp-content/uploads/2025/09/Untitled-600-x-400-px-1.png
END:VEVENT
BEGIN:VEVENT
DTSTART;TZID=America/Edmonton:20260801T090000
DTEND;TZID=America/Edmonton:20260801T230000
DTSTAMP:20260424T205143
CREATED:20250925T185543Z
LAST-MODIFIED:20260227T051229Z
UID:10002623-1785574800-1785625200@park96.com
SUMMARY:Wai Da Wing Tsun Kung Fu
DESCRIPTION:
URL:https://park96.com/event/wai-da-wing-tsun-kung-fu-2/2026-08-01/
LOCATION:Park96\, 14660 Parkland Blvd. SE\, Calgary\, AB\, T2J 6L5\, Canada
ATTACH;FMTTYPE=image/png:https://park96.com/wp-content/uploads/2025/09/Untitled-600-x-400-px-1.png
END:VEVENT
BEGIN:VEVENT
DTSTART;TZID=America/Edmonton:20260808T090000
DTEND;TZID=America/Edmonton:20260808T230000
DTSTAMP:20260424T205143
CREATED:20250925T185543Z
LAST-MODIFIED:20260227T051229Z
UID:10002624-1786179600-1786230000@park96.com
SUMMARY:Wai Da Wing Tsun Kung Fu
DESCRIPTION:
URL:https://park96.com/event/wai-da-wing-tsun-kung-fu-2/2026-08-08/
LOCATION:Park96\, 14660 Parkland Blvd. SE\, Calgary\, AB\, T2J 6L5\, Canada
ATTACH;FMTTYPE=image/png:https://park96.com/wp-content/uploads/2025/09/Untitled-600-x-400-px-1.png
END:VEVENT
BEGIN:VEVENT
DTSTART;TZID=America/Edmonton:20260810T090000
DTEND;TZID=America/Edmonton:20260814T160000
DTSTAMP:20260424T205143
CREATED:20250322T022258Z
LAST-MODIFIED:20260227T051951Z
UID:10000214-1786352400-1786723200@park96.com
SUMMARY:Reptile Camp (week 3)
DESCRIPTION:Click here to go to the Reptile Camp page with more information and how to register. \nReptile Camp – Park96
URL:https://park96.com/event/reptile-camp-week-3/
LOCATION:Park96\, 14660 Parkland Blvd. SE\, Calgary\, AB\, T2J 6L5\, Canada
CATEGORIES:Camp
ATTACH;FMTTYPE=image/jpeg:https://park96.com/wp-content/uploads/2025/03/Reptile-Camp-2.jpg
ORGANIZER;CN="Reptile Camp":MAILTO:reptile.party@hotmail.com
END:VEVENT
BEGIN:VEVENT
DTSTART;TZID=America/Edmonton:20260815T090000
DTEND;TZID=America/Edmonton:20260815T230000
DTSTAMP:20260424T205143
CREATED:20250925T185543Z
LAST-MODIFIED:20260227T051229Z
UID:10002625-1786784400-1786834800@park96.com
SUMMARY:Wai Da Wing Tsun Kung Fu
DESCRIPTION:
URL:https://park96.com/event/wai-da-wing-tsun-kung-fu-2/2026-08-15/
LOCATION:Park96\, 14660 Parkland Blvd. SE\, Calgary\, AB\, T2J 6L5\, Canada
ATTACH;FMTTYPE=image/png:https://park96.com/wp-content/uploads/2025/09/Untitled-600-x-400-px-1.png
END:VEVENT
BEGIN:VEVENT
DTSTART;TZID=America/Edmonton:20260817T090000
DTEND;TZID=America/Edmonton:20260821T160000
DTSTAMP:20260424T205143
CREATED:20250322T022411Z
LAST-MODIFIED:20260227T052051Z
UID:10000215-1786957200-1787328000@park96.com
SUMMARY:Reptile Camp (week 4)
DESCRIPTION:Click here to go to the Reptile Camp page with more information and how to register. \nReptile Camp – Park96
URL:https://park96.com/event/reptile-camp-week-4/
LOCATION:Park96\, 14660 Parkland Blvd. SE\, Calgary\, AB\, T2J 6L5\, Canada
CATEGORIES:Camp
ATTACH;FMTTYPE=image/jpeg:https://park96.com/wp-content/uploads/2025/03/Reptile-Camp-2.jpg
ORGANIZER;CN="Reptile Camp":MAILTO:reptile.party@hotmail.com
END:VEVENT
BEGIN:VEVENT
DTSTART;TZID=America/Edmonton:20260818T190000
DTEND;TZID=America/Edmonton:20260818T220000
DTSTAMP:20260424T205143
CREATED:20240405T202811Z
LAST-MODIFIED:20240405T202811Z
UID:10000053-1787079600-1787090400@park96.com
SUMMARY:Board Game Club
DESCRIPTION:
URL:https://park96.com/event/board-game-club/2026-08-18/
LOCATION:Park96\, 14660 Parkland Blvd. SE\, Calgary\, AB\, T2J 6L5\, Canada
ATTACH;FMTTYPE=image/jpeg:https://park96.com/wp-content/uploads/2024/04/Board-Game-600x400-1.jpg
ORGANIZER;CN="Park96":MAILTO:park96@telus.net
END:VEVENT
BEGIN:VEVENT
DTSTART;TZID=America/Edmonton:20260822T090000
DTEND;TZID=America/Edmonton:20260822T230000
DTSTAMP:20260424T205143
CREATED:20250925T185543Z
LAST-MODIFIED:20260227T051229Z
UID:10002626-1787389200-1787439600@park96.com
SUMMARY:Wai Da Wing Tsun Kung Fu
DESCRIPTION:
URL:https://park96.com/event/wai-da-wing-tsun-kung-fu-2/2026-08-22/
LOCATION:Park96\, 14660 Parkland Blvd. SE\, Calgary\, AB\, T2J 6L5\, Canada
ATTACH;FMTTYPE=image/png:https://park96.com/wp-content/uploads/2025/09/Untitled-600-x-400-px-1.png
END:VEVENT
BEGIN:VEVENT
DTSTART;TZID=America/Edmonton:20260829T090000
DTEND;TZID=America/Edmonton:20260829T230000
DTSTAMP:20260424T205143
CREATED:20250925T185543Z
LAST-MODIFIED:20260227T051229Z
UID:10002627-1787994000-1788044400@park96.com
SUMMARY:Wai Da Wing Tsun Kung Fu
DESCRIPTION:
URL:https://park96.com/event/wai-da-wing-tsun-kung-fu-2/2026-08-29/
LOCATION:Park96\, 14660 Parkland Blvd. SE\, Calgary\, AB\, T2J 6L5\, Canada
ATTACH;FMTTYPE=image/png:https://park96.com/wp-content/uploads/2025/09/Untitled-600-x-400-px-1.png
END:VEVENT
BEGIN:VEVENT
DTSTART;TZID=America/Edmonton:20260905T090000
DTEND;TZID=America/Edmonton:20260905T230000
DTSTAMP:20260424T205143
CREATED:20250925T185543Z
LAST-MODIFIED:20260227T051229Z
UID:10002628-1788598800-1788649200@park96.com
SUMMARY:Wai Da Wing Tsun Kung Fu
DESCRIPTION:
URL:https://park96.com/event/wai-da-wing-tsun-kung-fu-2/2026-09-05/
LOCATION:Park96\, 14660 Parkland Blvd. SE\, Calgary\, AB\, T2J 6L5\, Canada
ATTACH;FMTTYPE=image/png:https://park96.com/wp-content/uploads/2025/09/Untitled-600-x-400-px-1.png
END:VEVENT
BEGIN:VEVENT
DTSTART;TZID=America/Edmonton:20260912T090000
DTEND;TZID=America/Edmonton:20260912T230000
DTSTAMP:20260424T205143
CREATED:20250925T185543Z
LAST-MODIFIED:20260227T051229Z
UID:10002629-1789203600-1789254000@park96.com
SUMMARY:Wai Da Wing Tsun Kung Fu
DESCRIPTION:
URL:https://park96.com/event/wai-da-wing-tsun-kung-fu-2/2026-09-12/
LOCATION:Park96\, 14660 Parkland Blvd. SE\, Calgary\, AB\, T2J 6L5\, Canada
ATTACH;FMTTYPE=image/png:https://park96.com/wp-content/uploads/2025/09/Untitled-600-x-400-px-1.png
END:VEVENT
BEGIN:VEVENT
DTSTART;TZID=America/Edmonton:20260915T190000
DTEND;TZID=America/Edmonton:20260915T220000
DTSTAMP:20260424T205143
CREATED:20240405T202811Z
LAST-MODIFIED:20240405T202811Z
UID:10000054-1789498800-1789509600@park96.com
SUMMARY:Board Game Club
DESCRIPTION:
URL:https://park96.com/event/board-game-club/2026-09-15/
LOCATION:Park96\, 14660 Parkland Blvd. SE\, Calgary\, AB\, T2J 6L5\, Canada
ATTACH;FMTTYPE=image/jpeg:https://park96.com/wp-content/uploads/2024/04/Board-Game-600x400-1.jpg
ORGANIZER;CN="Park96":MAILTO:park96@telus.net
END:VEVENT
END:VCALENDAR