BEGIN:VCALENDAR
VERSION:2.0
PRODID:-//Park 96 - ECPv6.15.11//NONSGML v1.0//EN
CALSCALE:GREGORIAN
METHOD:PUBLISH
X-WR-CALNAME:Park 96
X-ORIGINAL-URL:https://park96.com
X-WR-CALDESC:Events for Park 96
REFRESH-INTERVAL;VALUE=DURATION:PT1H
X-Robots-Tag:noindex
X-PUBLISHED-TTL:PT1H
BEGIN:VTIMEZONE
TZID:America/Edmonton
BEGIN:DAYLIGHT
TZOFFSETFROM:-0700
TZOFFSETTO:-0600
TZNAME:MDT
DTSTART:20230312T090000
END:DAYLIGHT
BEGIN:STANDARD
TZOFFSETFROM:-0600
TZOFFSETTO:-0700
TZNAME:MST
DTSTART:20231105T080000
END:STANDARD
BEGIN:DAYLIGHT
TZOFFSETFROM:-0700
TZOFFSETTO:-0600
TZNAME:MDT
DTSTART:20240310T090000
END:DAYLIGHT
BEGIN:STANDARD
TZOFFSETFROM:-0600
TZOFFSETTO:-0700
TZNAME:MST
DTSTART:20241103T080000
END:STANDARD
BEGIN:DAYLIGHT
TZOFFSETFROM:-0700
TZOFFSETTO:-0600
TZNAME:MDT
DTSTART:20250309T090000
END:DAYLIGHT
BEGIN:STANDARD
TZOFFSETFROM:-0600
TZOFFSETTO:-0700
TZNAME:MST
DTSTART:20251102T080000
END:STANDARD
END:VTIMEZONE
BEGIN:VEVENT
DTSTART;TZID=America/Edmonton:20240806T090000
DTEND;TZID=America/Edmonton:20240809T160000
DTSTAMP:20260425T115442
CREATED:20240405T192244Z
LAST-MODIFIED:20240420T142640Z
UID:10000011-1722934800-1723219200@park96.com
SUMMARY:SLP Summer Camp
DESCRIPTION:  \nFollow this link to the Speech Matters Page for more information and how to register. \nSLP Summer Camp – Park 96 \n 
URL:https://park96.com/event/slp-summer-camp-2/
LOCATION:Park96\, 14660 Parkland Blvd. SE\, Calgary\, AB\, T2J 6L5\, Canada
CATEGORIES:Camp
ORGANIZER;CN="Speech Matters SLP Services":MAILTO:info@speechmattersslp.com
END:VEVENT
BEGIN:VEVENT
DTSTART;TZID=America/Edmonton:20240802T180000
DTEND;TZID=America/Edmonton:20240802T210000
DTSTAMP:20260425T115442
CREATED:20240405T210048Z
LAST-MODIFIED:20240405T210048Z
UID:10000119-1722621600-1722632400@park96.com
SUMMARY:Tennis Social
DESCRIPTION:Tennis Lessons – Park 96 \n 
URL:https://park96.com/event/tennis-social/2024-08-02/
LOCATION:Park96\, 14660 Parkland Blvd. SE\, Calgary\, AB\, T2J 6L5\, Canada
ORGANIZER;CN="Park96":MAILTO:park96@telus.net
END:VEVENT
BEGIN:VEVENT
DTSTART;TZID=America/Edmonton:20240729T090000
DTEND;TZID=America/Edmonton:20240802T170000
DTSTAMP:20260425T115442
CREATED:20240405T191122Z
LAST-MODIFIED:20240420T142640Z
UID:10000007-1722243600-1722618000@park96.com
SUMMARY:Reptile Camp
DESCRIPTION:Click here to go to the Reptile Camp page with more information and how to register. \nReptile Camp – Park 96
URL:https://park96.com/event/reptile-camp-2/
LOCATION:Park96\, 14660 Parkland Blvd. SE\, Calgary\, AB\, T2J 6L5\, Canada
CATEGORIES:Camp
ORGANIZER;CN="Reptile Camp":MAILTO:reptile.party@hotmail.com
END:VEVENT
BEGIN:VEVENT
DTSTART;TZID=America/Edmonton:20240726T180000
DTEND;TZID=America/Edmonton:20240726T210000
DTSTAMP:20260425T115442
CREATED:20240405T210048Z
LAST-MODIFIED:20240405T210048Z
UID:10000118-1722016800-1722027600@park96.com
SUMMARY:Tennis Social
DESCRIPTION:Tennis Lessons – Park 96 \n 
URL:https://park96.com/event/tennis-social/2024-07-26/
LOCATION:Park96\, 14660 Parkland Blvd. SE\, Calgary\, AB\, T2J 6L5\, Canada
ORGANIZER;CN="Park96":MAILTO:park96@telus.net
END:VEVENT
BEGIN:VEVENT
DTSTART;TZID=America/Edmonton:20240719T180000
DTEND;TZID=America/Edmonton:20240719T210000
DTSTAMP:20260425T115442
CREATED:20240405T210048Z
LAST-MODIFIED:20240405T210048Z
UID:10000117-1721412000-1721422800@park96.com
SUMMARY:Tennis Social
DESCRIPTION:Tennis Lessons – Park 96 \n 
URL:https://park96.com/event/tennis-social/2024-07-19/
LOCATION:Park96\, 14660 Parkland Blvd. SE\, Calgary\, AB\, T2J 6L5\, Canada
ORGANIZER;CN="Park96":MAILTO:park96@telus.net
END:VEVENT
BEGIN:VEVENT
DTSTART;TZID=America/Edmonton:20240716T190000
DTEND;TZID=America/Edmonton:20240716T220000
DTSTAMP:20260425T115442
CREATED:20240405T202811Z
LAST-MODIFIED:20240405T202811Z
UID:10000028-1721156400-1721167200@park96.com
SUMMARY:Board Game Club
DESCRIPTION:
URL:https://park96.com/event/board-game-club/2024-07-16/
LOCATION:Park96\, 14660 Parkland Blvd. SE\, Calgary\, AB\, T2J 6L5\, Canada
ATTACH;FMTTYPE=image/jpeg:https://park96.com/wp-content/uploads/2024/04/Board-Game-600x400-1.jpg
ORGANIZER;CN="Park96":MAILTO:park96@telus.net
END:VEVENT
BEGIN:VEVENT
DTSTART;TZID=America/Edmonton:20240715T090000
DTEND;TZID=America/Edmonton:20240719T170000
DTSTAMP:20260425T115442
CREATED:20240405T190855Z
LAST-MODIFIED:20240502T202047Z
UID:10000006-1721034000-1721408400@park96.com
SUMMARY:Reptile Camp
DESCRIPTION:Click here to go to the Reptile Camp page with more information and how to register. \nReptile Camp – Park 96
URL:https://park96.com/event/reptile-camp/
LOCATION:Park96\, 14660 Parkland Blvd. SE\, Calgary\, AB\, T2J 6L5\, Canada
CATEGORIES:Camp
ORGANIZER;CN="Reptile Camp":MAILTO:reptile.party@hotmail.com
END:VEVENT
BEGIN:VEVENT
DTSTART;TZID=America/Edmonton:20240712T180000
DTEND;TZID=America/Edmonton:20240712T210000
DTSTAMP:20260425T115442
CREATED:20240405T210048Z
LAST-MODIFIED:20240405T210048Z
UID:10000116-1720807200-1720818000@park96.com
SUMMARY:Tennis Social
DESCRIPTION:Tennis Lessons – Park 96 \n 
URL:https://park96.com/event/tennis-social/2024-07-12/
LOCATION:Park96\, 14660 Parkland Blvd. SE\, Calgary\, AB\, T2J 6L5\, Canada
ORGANIZER;CN="Park96":MAILTO:park96@telus.net
END:VEVENT
BEGIN:VEVENT
DTSTART;TZID=America/Edmonton:20240708T083000
DTEND;TZID=America/Edmonton:20240712T160000
DTSTAMP:20260425T115442
CREATED:20240502T201748Z
LAST-MODIFIED:20240502T201748Z
UID:10000191-1720427400-1720800000@park96.com
SUMMARY:Haunted Hollow Day Camp
DESCRIPTION:  \nFollow this link to the for more information and how to register. \nHaunted Hollows Day Camp Sign Up (google.com) \n  \n  \n\n 
URL:https://park96.com/event/haunted-hollow-day-camp/
LOCATION:Park96\, 14660 Parkland Blvd. SE\, Calgary\, AB\, T2J 6L5\, Canada
CATEGORIES:Camp
ORGANIZER;CN="Speech Matters SLP Services":MAILTO:info@speechmattersslp.com
END:VEVENT
BEGIN:VEVENT
DTSTART;TZID=America/Edmonton:20240705T180000
DTEND;TZID=America/Edmonton:20240705T210000
DTSTAMP:20260425T115442
CREATED:20240405T210048Z
LAST-MODIFIED:20240405T210048Z
UID:10000115-1720202400-1720213200@park96.com
SUMMARY:Tennis Social
DESCRIPTION:Tennis Lessons – Park 96 \n 
URL:https://park96.com/event/tennis-social/2024-07-05/
LOCATION:Park96\, 14660 Parkland Blvd. SE\, Calgary\, AB\, T2J 6L5\, Canada
ORGANIZER;CN="Park96":MAILTO:park96@telus.net
END:VEVENT
BEGIN:VEVENT
DTSTART;TZID=America/Edmonton:20240702T083000
DTEND;TZID=America/Edmonton:20240705T160000
DTSTAMP:20260425T115442
CREATED:20240405T162833Z
LAST-MODIFIED:20240420T142640Z
UID:10000005-1719909000-1720195200@park96.com
SUMMARY:SLP Summer Camp
DESCRIPTION:  \nFollow this link to the Speech Matters Page for more information and how to register. \nSLP Summer Camp – Park 96 \n 
URL:https://park96.com/event/slp-summer-camp/
LOCATION:Park96\, 14660 Parkland Blvd. SE\, Calgary\, AB\, T2J 6L5\, Canada
CATEGORIES:Camp
ORGANIZER;CN="Speech Matters SLP Services":MAILTO:info@speechmattersslp.com
END:VEVENT
BEGIN:VEVENT
DTSTART;TZID=America/Edmonton:20240628T180000
DTEND;TZID=America/Edmonton:20240628T210000
DTSTAMP:20260425T115442
CREATED:20240405T210048Z
LAST-MODIFIED:20240405T210048Z
UID:10000114-1719597600-1719608400@park96.com
SUMMARY:Tennis Social
DESCRIPTION:Tennis Lessons – Park 96 \n 
URL:https://park96.com/event/tennis-social/2024-06-28/
LOCATION:Park96\, 14660 Parkland Blvd. SE\, Calgary\, AB\, T2J 6L5\, Canada
ORGANIZER;CN="Park96":MAILTO:park96@telus.net
END:VEVENT
BEGIN:VEVENT
DTSTART;TZID=America/Edmonton:20240621T180000
DTEND;TZID=America/Edmonton:20240621T210000
DTSTAMP:20260425T115442
CREATED:20240405T210048Z
LAST-MODIFIED:20240405T210048Z
UID:10000113-1718992800-1719003600@park96.com
SUMMARY:Tennis Social
DESCRIPTION:Tennis Lessons – Park 96 \n 
URL:https://park96.com/event/tennis-social/2024-06-21/
LOCATION:Park96\, 14660 Parkland Blvd. SE\, Calgary\, AB\, T2J 6L5\, Canada
ORGANIZER;CN="Park96":MAILTO:park96@telus.net
END:VEVENT
BEGIN:VEVENT
DTSTART;TZID=America/Edmonton:20240618T190000
DTEND;TZID=America/Edmonton:20240618T220000
DTSTAMP:20260425T115442
CREATED:20240405T202811Z
LAST-MODIFIED:20240405T202811Z
UID:10000027-1718737200-1718748000@park96.com
SUMMARY:Board Game Club
DESCRIPTION:
URL:https://park96.com/event/board-game-club/2024-06-18/
LOCATION:Park96\, 14660 Parkland Blvd. SE\, Calgary\, AB\, T2J 6L5\, Canada
ATTACH;FMTTYPE=image/jpeg:https://park96.com/wp-content/uploads/2024/04/Board-Game-600x400-1.jpg
ORGANIZER;CN="Park96":MAILTO:park96@telus.net
END:VEVENT
BEGIN:VEVENT
DTSTART;TZID=America/Edmonton:20240615T093000
DTEND;TZID=America/Edmonton:20240615T113000
DTSTAMP:20260425T115442
CREATED:20240405T214828Z
LAST-MODIFIED:20240420T143014Z
UID:10000190-1718443800-1718451000@park96.com
SUMMARY:Pickleball Clinics: Sat
DESCRIPTION:Pickleball Clinics – Park 96
URL:https://park96.com/event/pickleball-clinics-sat/2024-06-15/
LOCATION:Park96\, 14660 Parkland Blvd. SE\, Calgary\, AB\, T2J 6L5\, Canada
CATEGORIES:Clinic
ORGANIZER;CN="Park96":MAILTO:park96@telus.net
END:VEVENT
BEGIN:VEVENT
DTSTART;TZID=America/Edmonton:20240614T180000
DTEND;TZID=America/Edmonton:20240614T210000
DTSTAMP:20260425T115442
CREATED:20240405T210048Z
LAST-MODIFIED:20240405T210048Z
UID:10000112-1718388000-1718398800@park96.com
SUMMARY:Tennis Social
DESCRIPTION:Tennis Lessons – Park 96 \n 
URL:https://park96.com/event/tennis-social/2024-06-14/
LOCATION:Park96\, 14660 Parkland Blvd. SE\, Calgary\, AB\, T2J 6L5\, Canada
ORGANIZER;CN="Park96":MAILTO:park96@telus.net
END:VEVENT
BEGIN:VEVENT
DTSTART;TZID=America/Edmonton:20240612T180000
DTEND;TZID=America/Edmonton:20240612T200000
DTSTAMP:20260425T115442
CREATED:20240405T211304Z
LAST-MODIFIED:20240420T143014Z
UID:10000159-1718215200-1718222400@park96.com
SUMMARY:Pickleball Clinics: Wed
DESCRIPTION:Pickleball Clinics – Park 96
URL:https://park96.com/event/pickleball-clinics-mon-2/2024-06-12/
LOCATION:Park96\, 14660 Parkland Blvd. SE\, Calgary\, AB\, T2J 6L5\, Canada
CATEGORIES:Clinic
ORGANIZER;CN="Park96":MAILTO:park96@telus.net
END:VEVENT
BEGIN:VEVENT
DTSTART;TZID=America/Edmonton:20240611T180000
DTEND;TZID=America/Edmonton:20240611T200000
DTSTAMP:20260425T115442
CREATED:20240405T211231Z
LAST-MODIFIED:20240420T143014Z
UID:10000155-1718128800-1718136000@park96.com
SUMMARY:Pickleball Clinics: Tue
DESCRIPTION:Pickleball Clinics – Park 96
URL:https://park96.com/event/pickleball-clinics-tue/2024-06-11/
LOCATION:Park96\, 14660 Parkland Blvd. SE\, Calgary\, AB\, T2J 6L5\, Canada
CATEGORIES:Clinic
ORGANIZER;CN="Park96":MAILTO:park96@telus.net
END:VEVENT
BEGIN:VEVENT
DTSTART;TZID=America/Edmonton:20240608T093000
DTEND;TZID=America/Edmonton:20240608T113000
DTSTAMP:20260425T115442
CREATED:20240405T214828Z
LAST-MODIFIED:20240420T143014Z
UID:10000189-1717839000-1717846200@park96.com
SUMMARY:Pickleball Clinics: Sat
DESCRIPTION:Pickleball Clinics – Park 96
URL:https://park96.com/event/pickleball-clinics-sat/2024-06-08/
LOCATION:Park96\, 14660 Parkland Blvd. SE\, Calgary\, AB\, T2J 6L5\, Canada
CATEGORIES:Clinic
ORGANIZER;CN="Park96":MAILTO:park96@telus.net
END:VEVENT
BEGIN:VEVENT
DTSTART;TZID=America/Edmonton:20240607T180000
DTEND;TZID=America/Edmonton:20240607T210000
DTSTAMP:20260425T115442
CREATED:20240405T210048Z
LAST-MODIFIED:20240405T210048Z
UID:10000111-1717783200-1717794000@park96.com
SUMMARY:Tennis Social
DESCRIPTION:Tennis Lessons – Park 96 \n 
URL:https://park96.com/event/tennis-social/2024-06-07/
LOCATION:Park96\, 14660 Parkland Blvd. SE\, Calgary\, AB\, T2J 6L5\, Canada
ORGANIZER;CN="Park96":MAILTO:park96@telus.net
END:VEVENT
BEGIN:VEVENT
DTSTART;TZID=America/Edmonton:20240606T160000
DTEND;TZID=America/Edmonton:20240606T203000
DTSTAMP:20260425T115442
CREATED:20240405T205323Z
LAST-MODIFIED:20240405T205323Z
UID:10000091-1717689600-1717705800@park96.com
SUMMARY:Tennis Lessons
DESCRIPTION:Tennis Lessons – Park 96 \n 
URL:https://park96.com/event/tennis-lessons/2024-06-06/
LOCATION:Park96\, 14660 Parkland Blvd. SE\, Calgary\, AB\, T2J 6L5\, Canada
ORGANIZER;CN="Park96":MAILTO:park96@telus.net
END:VEVENT
BEGIN:VEVENT
DTSTART;TZID=America/Edmonton:20240605T180000
DTEND;TZID=America/Edmonton:20240605T200000
DTSTAMP:20260425T115442
CREATED:20240405T211304Z
LAST-MODIFIED:20240420T143014Z
UID:10000158-1717610400-1717617600@park96.com
SUMMARY:Pickleball Clinics: Wed
DESCRIPTION:Pickleball Clinics – Park 96
URL:https://park96.com/event/pickleball-clinics-mon-2/2024-06-05/
LOCATION:Park96\, 14660 Parkland Blvd. SE\, Calgary\, AB\, T2J 6L5\, Canada
CATEGORIES:Clinic
ORGANIZER;CN="Park96":MAILTO:park96@telus.net
END:VEVENT
BEGIN:VEVENT
DTSTART;TZID=America/Edmonton:20240604T180000
DTEND;TZID=America/Edmonton:20240604T200000
DTSTAMP:20260425T115442
CREATED:20240405T211231Z
LAST-MODIFIED:20240420T143014Z
UID:10000154-1717524000-1717531200@park96.com
SUMMARY:Pickleball Clinics: Tue
DESCRIPTION:Pickleball Clinics – Park 96
URL:https://park96.com/event/pickleball-clinics-tue/2024-06-04/
LOCATION:Park96\, 14660 Parkland Blvd. SE\, Calgary\, AB\, T2J 6L5\, Canada
CATEGORIES:Clinic
ORGANIZER;CN="Park96":MAILTO:park96@telus.net
END:VEVENT
BEGIN:VEVENT
DTSTART;TZID=America/Edmonton:20240601T093000
DTEND;TZID=America/Edmonton:20240601T113000
DTSTAMP:20260425T115442
CREATED:20240405T214828Z
LAST-MODIFIED:20240420T143014Z
UID:10000188-1717234200-1717241400@park96.com
SUMMARY:Pickleball Clinics: Sat
DESCRIPTION:Pickleball Clinics – Park 96
URL:https://park96.com/event/pickleball-clinics-sat/2024-06-01/
LOCATION:Park96\, 14660 Parkland Blvd. SE\, Calgary\, AB\, T2J 6L5\, Canada
CATEGORIES:Clinic
ORGANIZER;CN="Park96":MAILTO:park96@telus.net
END:VEVENT
BEGIN:VEVENT
DTSTART;TZID=America/Edmonton:20240531T180000
DTEND;TZID=America/Edmonton:20240531T210000
DTSTAMP:20260425T115442
CREATED:20240405T210048Z
LAST-MODIFIED:20240405T210048Z
UID:10000110-1717178400-1717189200@park96.com
SUMMARY:Tennis Social
DESCRIPTION:Tennis Lessons – Park 96 \n 
URL:https://park96.com/event/tennis-social/2024-05-31/
LOCATION:Park96\, 14660 Parkland Blvd. SE\, Calgary\, AB\, T2J 6L5\, Canada
ORGANIZER;CN="Park96":MAILTO:park96@telus.net
END:VEVENT
BEGIN:VEVENT
DTSTART;TZID=America/Edmonton:20240530T160000
DTEND;TZID=America/Edmonton:20240530T203000
DTSTAMP:20260425T115442
CREATED:20240405T205323Z
LAST-MODIFIED:20240405T205323Z
UID:10000090-1717084800-1717101000@park96.com
SUMMARY:Tennis Lessons
DESCRIPTION:Tennis Lessons – Park 96 \n 
URL:https://park96.com/event/tennis-lessons/2024-05-30/
LOCATION:Park96\, 14660 Parkland Blvd. SE\, Calgary\, AB\, T2J 6L5\, Canada
ORGANIZER;CN="Park96":MAILTO:park96@telus.net
END:VEVENT
BEGIN:VEVENT
DTSTART;TZID=America/Edmonton:20240530T093000
DTEND;TZID=America/Edmonton:20240530T113000
DTSTAMP:20260425T115442
CREATED:20240405T211838Z
LAST-MODIFIED:20240420T143014Z
UID:10000156-1717061400-1717068600@park96.com
SUMMARY:Pickleball Clinics: Thr
DESCRIPTION:Pickleball Clinics – Park 96
URL:https://park96.com/event/pickleball-clinics-mon-4/
LOCATION:Park96\, 14660 Parkland Blvd. SE\, Calgary\, AB\, T2J 6L5\, Canada
CATEGORIES:Clinic
ORGANIZER;CN="Park96":MAILTO:park96@telus.net
END:VEVENT
BEGIN:VEVENT
DTSTART;TZID=America/Edmonton:20240529T180000
DTEND;TZID=America/Edmonton:20240529T200000
DTSTAMP:20260425T115442
CREATED:20240405T211304Z
LAST-MODIFIED:20240420T143014Z
UID:10000157-1717005600-1717012800@park96.com
SUMMARY:Pickleball Clinics: Wed
DESCRIPTION:Pickleball Clinics – Park 96
URL:https://park96.com/event/pickleball-clinics-mon-2/2024-05-29/
LOCATION:Park96\, 14660 Parkland Blvd. SE\, Calgary\, AB\, T2J 6L5\, Canada
CATEGORIES:Clinic
ORGANIZER;CN="Park96":MAILTO:park96@telus.net
END:VEVENT
BEGIN:VEVENT
DTSTART;TZID=America/Edmonton:20240528T180000
DTEND;TZID=America/Edmonton:20240528T200000
DTSTAMP:20260425T115442
CREATED:20240405T211231Z
LAST-MODIFIED:20240420T143014Z
UID:10000153-1716919200-1716926400@park96.com
SUMMARY:Pickleball Clinics: Tue
DESCRIPTION:Pickleball Clinics – Park 96
URL:https://park96.com/event/pickleball-clinics-tue/2024-05-28/
LOCATION:Park96\, 14660 Parkland Blvd. SE\, Calgary\, AB\, T2J 6L5\, Canada
CATEGORIES:Clinic
ORGANIZER;CN="Park96":MAILTO:park96@telus.net
END:VEVENT
BEGIN:VEVENT
DTSTART;TZID=America/Edmonton:20240527T093000
DTEND;TZID=America/Edmonton:20240527T113000
DTSTAMP:20260425T115442
CREATED:20240405T211537Z
LAST-MODIFIED:20240420T143014Z
UID:10000148-1716802200-1716809400@park96.com
SUMMARY:Pickleball Clinics: Mon
DESCRIPTION:Pickleball Clinics – Park 96
URL:https://park96.com/event/pickleball-clinics-mon-3/
LOCATION:Park96\, 14660 Parkland Blvd. SE\, Calgary\, AB\, T2J 6L5\, Canada
CATEGORIES:Clinic
ORGANIZER;CN="Park96":MAILTO:park96@telus.net
END:VEVENT
END:VCALENDAR