BEGIN:VCALENDAR
VERSION:2.0
PRODID:-//Park 96 - ECPv6.15.11//NONSGML v1.0//EN
CALSCALE:GREGORIAN
METHOD:PUBLISH
X-ORIGINAL-URL:https://park96.com
X-WR-CALDESC:Events for Park 96
REFRESH-INTERVAL;VALUE=DURATION:PT1H
X-Robots-Tag:noindex
X-PUBLISHED-TTL:PT1H
BEGIN:VTIMEZONE
TZID:America/Edmonton
BEGIN:DAYLIGHT
TZOFFSETFROM:-0700
TZOFFSETTO:-0600
TZNAME:MDT
DTSTART:20230312T090000
END:DAYLIGHT
BEGIN:STANDARD
TZOFFSETFROM:-0600
TZOFFSETTO:-0700
TZNAME:MST
DTSTART:20231105T080000
END:STANDARD
BEGIN:DAYLIGHT
TZOFFSETFROM:-0700
TZOFFSETTO:-0600
TZNAME:MDT
DTSTART:20240310T090000
END:DAYLIGHT
BEGIN:STANDARD
TZOFFSETFROM:-0600
TZOFFSETTO:-0700
TZNAME:MST
DTSTART:20241103T080000
END:STANDARD
BEGIN:DAYLIGHT
TZOFFSETFROM:-0700
TZOFFSETTO:-0600
TZNAME:MDT
DTSTART:20250309T090000
END:DAYLIGHT
BEGIN:STANDARD
TZOFFSETFROM:-0600
TZOFFSETTO:-0700
TZNAME:MST
DTSTART:20251102T080000
END:STANDARD
END:VTIMEZONE
BEGIN:VEVENT
DTSTART;TZID=America/Edmonton:20240531T180000
DTEND;TZID=America/Edmonton:20240531T210000
DTSTAMP:20260425T151910
CREATED:20240405T210048Z
LAST-MODIFIED:20240405T210048Z
UID:10000110-1717178400-1717189200@park96.com
SUMMARY:Tennis Social
DESCRIPTION:Tennis Lessons – Park 96 \n 
URL:https://park96.com/event/tennis-social/2024-05-31/
LOCATION:Park96\, 14660 Parkland Blvd. SE\, Calgary\, AB\, T2J 6L5\, Canada
ORGANIZER;CN="Park96":MAILTO:park96@telus.net
END:VEVENT
BEGIN:VEVENT
DTSTART;TZID=America/Edmonton:20240530T160000
DTEND;TZID=America/Edmonton:20240530T203000
DTSTAMP:20260425T151910
CREATED:20240405T205323Z
LAST-MODIFIED:20240405T205323Z
UID:10000090-1717084800-1717101000@park96.com
SUMMARY:Tennis Lessons
DESCRIPTION:Tennis Lessons – Park 96 \n 
URL:https://park96.com/event/tennis-lessons/2024-05-30/
LOCATION:Park96\, 14660 Parkland Blvd. SE\, Calgary\, AB\, T2J 6L5\, Canada
ORGANIZER;CN="Park96":MAILTO:park96@telus.net
END:VEVENT
BEGIN:VEVENT
DTSTART;TZID=America/Edmonton:20240530T093000
DTEND;TZID=America/Edmonton:20240530T113000
DTSTAMP:20260425T151910
CREATED:20240405T211838Z
LAST-MODIFIED:20240420T143014Z
UID:10000156-1717061400-1717068600@park96.com
SUMMARY:Pickleball Clinics: Thr
DESCRIPTION:Pickleball Clinics – Park 96
URL:https://park96.com/event/pickleball-clinics-mon-4/
LOCATION:Park96\, 14660 Parkland Blvd. SE\, Calgary\, AB\, T2J 6L5\, Canada
CATEGORIES:Clinic
ORGANIZER;CN="Park96":MAILTO:park96@telus.net
END:VEVENT
BEGIN:VEVENT
DTSTART;TZID=America/Edmonton:20240529T180000
DTEND;TZID=America/Edmonton:20240529T200000
DTSTAMP:20260425T151910
CREATED:20240405T211304Z
LAST-MODIFIED:20240420T143014Z
UID:10000157-1717005600-1717012800@park96.com
SUMMARY:Pickleball Clinics: Wed
DESCRIPTION:Pickleball Clinics – Park 96
URL:https://park96.com/event/pickleball-clinics-mon-2/2024-05-29/
LOCATION:Park96\, 14660 Parkland Blvd. SE\, Calgary\, AB\, T2J 6L5\, Canada
CATEGORIES:Clinic
ORGANIZER;CN="Park96":MAILTO:park96@telus.net
END:VEVENT
BEGIN:VEVENT
DTSTART;TZID=America/Edmonton:20240528T180000
DTEND;TZID=America/Edmonton:20240528T200000
DTSTAMP:20260425T151910
CREATED:20240405T211231Z
LAST-MODIFIED:20240420T143014Z
UID:10000153-1716919200-1716926400@park96.com
SUMMARY:Pickleball Clinics: Tue
DESCRIPTION:Pickleball Clinics – Park 96
URL:https://park96.com/event/pickleball-clinics-tue/2024-05-28/
LOCATION:Park96\, 14660 Parkland Blvd. SE\, Calgary\, AB\, T2J 6L5\, Canada
CATEGORIES:Clinic
ORGANIZER;CN="Park96":MAILTO:park96@telus.net
END:VEVENT
BEGIN:VEVENT
DTSTART;TZID=America/Edmonton:20240527T093000
DTEND;TZID=America/Edmonton:20240527T113000
DTSTAMP:20260425T151910
CREATED:20240405T211537Z
LAST-MODIFIED:20240420T143014Z
UID:10000148-1716802200-1716809400@park96.com
SUMMARY:Pickleball Clinics: Mon
DESCRIPTION:Pickleball Clinics – Park 96
URL:https://park96.com/event/pickleball-clinics-mon-3/
LOCATION:Park96\, 14660 Parkland Blvd. SE\, Calgary\, AB\, T2J 6L5\, Canada
CATEGORIES:Clinic
ORGANIZER;CN="Park96":MAILTO:park96@telus.net
END:VEVENT
BEGIN:VEVENT
DTSTART;TZID=America/Edmonton:20240524T180000
DTEND;TZID=America/Edmonton:20240524T210000
DTSTAMP:20260425T151910
CREATED:20240405T210048Z
LAST-MODIFIED:20240405T210048Z
UID:10000109-1716573600-1716584400@park96.com
SUMMARY:Tennis Social
DESCRIPTION:Tennis Lessons – Park 96 \n 
URL:https://park96.com/event/tennis-social/2024-05-24/
LOCATION:Park96\, 14660 Parkland Blvd. SE\, Calgary\, AB\, T2J 6L5\, Canada
ORGANIZER;CN="Park96":MAILTO:park96@telus.net
END:VEVENT
BEGIN:VEVENT
DTSTART;TZID=America/Edmonton:20240523T160000
DTEND;TZID=America/Edmonton:20240523T203000
DTSTAMP:20260425T151910
CREATED:20240405T205323Z
LAST-MODIFIED:20240405T205323Z
UID:10000089-1716480000-1716496200@park96.com
SUMMARY:Tennis Lessons
DESCRIPTION:Tennis Lessons – Park 96 \n 
URL:https://park96.com/event/tennis-lessons/2024-05-23/
LOCATION:Park96\, 14660 Parkland Blvd. SE\, Calgary\, AB\, T2J 6L5\, Canada
ORGANIZER;CN="Park96":MAILTO:park96@telus.net
END:VEVENT
BEGIN:VEVENT
DTSTART;TZID=America/Edmonton:20240521T190000
DTEND;TZID=America/Edmonton:20240521T220000
DTSTAMP:20260425T151910
CREATED:20240405T202811Z
LAST-MODIFIED:20240405T202811Z
UID:10000026-1716318000-1716328800@park96.com
SUMMARY:Board Game Club
DESCRIPTION:
URL:https://park96.com/event/board-game-club/2024-05-21/
LOCATION:Park96\, 14660 Parkland Blvd. SE\, Calgary\, AB\, T2J 6L5\, Canada
ATTACH;FMTTYPE=image/jpeg:https://park96.com/wp-content/uploads/2024/04/Board-Game-600x400-1.jpg
ORGANIZER;CN="Park96":MAILTO:park96@telus.net
END:VEVENT
BEGIN:VEVENT
DTSTART;TZID=America/Edmonton:20240517T180000
DTEND;TZID=America/Edmonton:20240517T210000
DTSTAMP:20260425T151910
CREATED:20240405T210048Z
LAST-MODIFIED:20240405T210048Z
UID:10000108-1715968800-1715979600@park96.com
SUMMARY:Tennis Social
DESCRIPTION:Tennis Lessons – Park 96 \n 
URL:https://park96.com/event/tennis-social/2024-05-17/
LOCATION:Park96\, 14660 Parkland Blvd. SE\, Calgary\, AB\, T2J 6L5\, Canada
ORGANIZER;CN="Park96":MAILTO:park96@telus.net
END:VEVENT
BEGIN:VEVENT
DTSTART;TZID=America/Edmonton:20240516T160000
DTEND;TZID=America/Edmonton:20240516T203000
DTSTAMP:20260425T151910
CREATED:20240405T205323Z
LAST-MODIFIED:20240405T205323Z
UID:10000088-1715875200-1715891400@park96.com
SUMMARY:Tennis Lessons
DESCRIPTION:Tennis Lessons – Park 96 \n 
URL:https://park96.com/event/tennis-lessons/2024-05-16/
LOCATION:Park96\, 14660 Parkland Blvd. SE\, Calgary\, AB\, T2J 6L5\, Canada
ORGANIZER;CN="Park96":MAILTO:park96@telus.net
END:VEVENT
BEGIN:VEVENT
DTSTART;TZID=America/Edmonton:20240510T180000
DTEND;TZID=America/Edmonton:20240510T210000
DTSTAMP:20260425T151910
CREATED:20240405T210048Z
LAST-MODIFIED:20240405T210048Z
UID:10000107-1715364000-1715374800@park96.com
SUMMARY:Tennis Social
DESCRIPTION:Tennis Lessons – Park 96 \n 
URL:https://park96.com/event/tennis-social/2024-05-10/
LOCATION:Park96\, 14660 Parkland Blvd. SE\, Calgary\, AB\, T2J 6L5\, Canada
ORGANIZER;CN="Park96":MAILTO:park96@telus.net
END:VEVENT
BEGIN:VEVENT
DTSTART;TZID=America/Edmonton:20240509T160000
DTEND;TZID=America/Edmonton:20240509T203000
DTSTAMP:20260425T151910
CREATED:20240405T205323Z
LAST-MODIFIED:20240405T205323Z
UID:10000087-1715270400-1715286600@park96.com
SUMMARY:Tennis Lessons
DESCRIPTION:Tennis Lessons – Park 96 \n 
URL:https://park96.com/event/tennis-lessons/2024-05-09/
LOCATION:Park96\, 14660 Parkland Blvd. SE\, Calgary\, AB\, T2J 6L5\, Canada
ORGANIZER;CN="Park96":MAILTO:park96@telus.net
END:VEVENT
BEGIN:VEVENT
DTSTART;TZID=America/Edmonton:20240503T180000
DTEND;TZID=America/Edmonton:20240503T210000
DTSTAMP:20260425T151910
CREATED:20240405T210048Z
LAST-MODIFIED:20240405T210048Z
UID:10000106-1714759200-1714770000@park96.com
SUMMARY:Tennis Social
DESCRIPTION:Tennis Lessons – Park 96 \n 
URL:https://park96.com/event/tennis-social/2024-05-03/
LOCATION:Park96\, 14660 Parkland Blvd. SE\, Calgary\, AB\, T2J 6L5\, Canada
ORGANIZER;CN="Park96":MAILTO:park96@telus.net
END:VEVENT
BEGIN:VEVENT
DTSTART;TZID=America/Edmonton:20240502T160000
DTEND;TZID=America/Edmonton:20240502T203000
DTSTAMP:20260425T151910
CREATED:20240405T205323Z
LAST-MODIFIED:20240405T205323Z
UID:10000086-1714665600-1714681800@park96.com
SUMMARY:Tennis Lessons
DESCRIPTION:Tennis Lessons – Park 96 \n 
URL:https://park96.com/event/tennis-lessons/2024-05-02/
LOCATION:Park96\, 14660 Parkland Blvd. SE\, Calgary\, AB\, T2J 6L5\, Canada
ORGANIZER;CN="Park96":MAILTO:park96@telus.net
END:VEVENT
BEGIN:VEVENT
DTSTART;TZID=America/Edmonton:20240416T190000
DTEND;TZID=America/Edmonton:20240416T220000
DTSTAMP:20260425T151910
CREATED:20240405T202811Z
LAST-MODIFIED:20240405T202811Z
UID:10000025-1713294000-1713304800@park96.com
SUMMARY:Board Game Club
DESCRIPTION:
URL:https://park96.com/event/board-game-club/2024-04-16/
LOCATION:Park96\, 14660 Parkland Blvd. SE\, Calgary\, AB\, T2J 6L5\, Canada
ATTACH;FMTTYPE=image/jpeg:https://park96.com/wp-content/uploads/2024/04/Board-Game-600x400-1.jpg
ORGANIZER;CN="Park96":MAILTO:park96@telus.net
END:VEVENT
END:VCALENDAR